BEGIN:VCALENDAR
VERSION:2.0
PRODID:-//AAMM - ECPv6.10.2//NONSGML v1.0//EN
CALSCALE:GREGORIAN
METHOD:PUBLISH
X-WR-CALNAME:AAMM
X-ORIGINAL-URL:https://aamm.at
X-WR-CALDESC:Veranstaltungen für AAMM
REFRESH-INTERVAL;VALUE=DURATION:PT1H
X-Robots-Tag:noindex
X-PUBLISHED-TTL:PT1H
BEGIN:VTIMEZONE
TZID:Europe/Vienna
BEGIN:DAYLIGHT
TZOFFSETFROM:+0100
TZOFFSETTO:+0200
TZNAME:CEST
DTSTART:20240331T010000
END:DAYLIGHT
BEGIN:STANDARD
TZOFFSETFROM:+0200
TZOFFSETTO:+0100
TZNAME:CET
DTSTART:20241027T010000
END:STANDARD
BEGIN:DAYLIGHT
TZOFFSETFROM:+0100
TZOFFSETTO:+0200
TZNAME:CEST
DTSTART:20250330T010000
END:DAYLIGHT
BEGIN:STANDARD
TZOFFSETFROM:+0200
TZOFFSETTO:+0100
TZNAME:CET
DTSTART:20251026T010000
END:STANDARD
END:VTIMEZONE
BEGIN:VEVENT
DTSTART;TZID=Europe/Vienna:20250926T000000
DTEND;TZID=Europe/Vienna:20250928T235959
DTSTAMP:20260420T030319
CREATED:20240911T112400Z
LAST-MODIFIED:20250823T110708Z
UID:10000062-1758844800-1759103999@aamm.at
SUMMARY:Kurs 3 | Wien
DESCRIPTION:In diesem Kurs erlernen Sie die Behandlung der oberen und unteren Extremitäten Gelenke. Regionen spezifische Schmerzphänomene werden besprochen. Zusätzlich sind die Segmentalen und funktionellen Zusammenhänge im gesamten Bewegungssystem erörtert deren Verständnis zur Rezidivprophylaxe notwendig ist.
URL:https://aamm.at/event/kurs-3-wien-2/
LOCATION:Wien-Trinicum\, Schwarzenbergplatz 6\, Eingang Zaunergasse 1-3\, Wien\, 1030\, Österreich
END:VEVENT
BEGIN:VEVENT
DTSTART;TZID=Europe/Vienna:20250516T000000
DTEND;TZID=Europe/Vienna:20250518T235959
DTSTAMP:20260420T030319
CREATED:20240806T144532Z
LAST-MODIFIED:20241122T135059Z
UID:10000041-1747353600-1747612799@aamm.at
SUMMARY:Kurs 2 / Wien
DESCRIPTION:In diesem Kurs erlernen Sie spezifische Techniken zur Behandlung der gesamten Wirbelsäule. Speziell Diagnostik und Therapie Pseudoradikulärer Symptome. Besonderes Augenmerk wird auf die funktionellen Zusammenhänge und die zu Grunde liegenden Mechanismen gelegt.
URL:https://aamm.at/event/kurs-2-aufbaukurs-1/
LOCATION:Wien-Trinicum\, Schwarzenbergplatz 6\, Eingang Zaunergasse 1-3\, Wien\, 1030\, Österreich
END:VEVENT
BEGIN:VEVENT
DTSTART;TZID=Europe/Vienna:20250321T000000
DTEND;TZID=Europe/Vienna:20250323T235959
DTSTAMP:20260420T030319
CREATED:20240911T135032Z
LAST-MODIFIED:20241121T081410Z
UID:10000081-1742515200-1742774399@aamm.at
SUMMARY:Kurs 1 / Wien
DESCRIPTION:In diesem Kurs erlernen Sie unspezifische und sichere diagnostische und therapeutische Techniken zum erkennen von funktionellen Störungen an der Wirbelsäule. Außerdem werden Ihnen die notwendigen anatomischen und Neurophysiologischen Grundlagen vermittelt. Ab der ersten Stunde versuchen wir Praxis orientiert auch die theoretischen Inhalte zu vermitteln. Es werden die Techniken auch gleich gegenseitig geübt daher sollten Sie bei auf lockere sportliche Bekleidung achten.
URL:https://aamm.at/event/kurs-1-wien/
LOCATION:Wien-Trinicum\, Schwarzenbergplatz 6\, Eingang Zaunergasse 1-3\, Wien\, 1030\, Österreich
END:VEVENT
BEGIN:VEVENT
DTSTART;TZID=Europe/Vienna:20240930T000000
DTEND;TZID=Europe/Vienna:20241006T235959
DTSTAMP:20260420T030319
CREATED:20240911T120006Z
LAST-MODIFIED:20240924T151403Z
UID:10000068-1727654400-1728259199@aamm.at
SUMMARY:Kurs 3 / Wien
DESCRIPTION:In diesem Kurs erlernen Sie die Behandlung der oberen und unteren Extremitäten Gelenke. Regionen spezifische Schmerzphänomene werden besprochen. Zusätzlich sind die Segmentalen und funktionellen Zusammenhänge im gesamten Bewegungssystem erörtert deren Verständnis zur Rezidivprophylaxe notwendig ist.
URL:https://aamm.at/event/kurs-3-wien/
LOCATION:Wien-Trinicum\, Schwarzenbergplatz 6\, Eingang Zaunergasse 1-3\, Wien\, 1030\, Österreich
END:VEVENT
END:VCALENDAR