BEGIN:VCALENDAR
VERSION:2.0
PRODID:-//AAMM - ECPv6.10.2//NONSGML v1.0//EN
CALSCALE:GREGORIAN
METHOD:PUBLISH
X-WR-CALNAME:AAMM
X-ORIGINAL-URL:https://aamm.at
X-WR-CALDESC:Veranstaltungen für AAMM
REFRESH-INTERVAL;VALUE=DURATION:PT1H
X-Robots-Tag:noindex
X-PUBLISHED-TTL:PT1H
BEGIN:VTIMEZONE
TZID:Europe/Vienna
BEGIN:DAYLIGHT
TZOFFSETFROM:+0100
TZOFFSETTO:+0200
TZNAME:CEST
DTSTART:20260329T010000
END:DAYLIGHT
BEGIN:STANDARD
TZOFFSETFROM:+0200
TZOFFSETTO:+0100
TZNAME:CET
DTSTART:20261025T010000
END:STANDARD
BEGIN:DAYLIGHT
TZOFFSETFROM:+0100
TZOFFSETTO:+0200
TZNAME:CEST
DTSTART:20270328T010000
END:DAYLIGHT
BEGIN:STANDARD
TZOFFSETFROM:+0200
TZOFFSETTO:+0100
TZNAME:CET
DTSTART:20271031T010000
END:STANDARD
END:VTIMEZONE
BEGIN:VEVENT
DTSTART;TZID=Europe/Vienna:20260509T090000
DTEND;TZID=Europe/Vienna:20260509T160000
DTSTAMP:20260419T192014
CREATED:20250406T124322Z
LAST-MODIFIED:20260126T162851Z
UID:10000099-1778317200-1778342400@aamm.at
SUMMARY:Kinesiotaping für Ärzte
DESCRIPTION:Die Inhalte dieser Fortbildung sollen Theorie und Praxis des Kinesiotaping vermitteln. Auf die Grundtechniken wie toniserende und detonisierende Muskeltechniken\, Ligament-\, Lymph- und Faszientechniken bzw. Positionskorrekturtaping wird in Form eines Vortrages eingegangen und im Anschluss im praktischen Teil von jedem Kursanten umgesetzt. Zusätzlich werden bewährte Kombinationsbehandlungen mit Manual Medizinischen Techniken abgehandelt. Kursprogramm herunterladen
URL:https://aamm.at/event/kinesiotaping-fuer-aerzte-5/
LOCATION:Klagenfurt-FBZ\, Waaggasse 18\, Klagenfurt\, Kärnten\, 9020\, Österreich
END:VEVENT
BEGIN:VEVENT
DTSTART;TZID=Europe/Vienna:20260914T000000
DTEND;TZID=Europe/Vienna:20260920T235959
DTSTAMP:20260419T192014
CREATED:20250406T125340Z
LAST-MODIFIED:20260126T164537Z
UID:10000101-1789344000-1789948799@aamm.at
SUMMARY:Kurs 1 | Klagenfurt
DESCRIPTION:In diesem Kurs erlernen Sie unspezifische und sichere diagnostische und therapeutische Techniken zum erkennen von funktionellen Störungen an der Wirbelsäule. Außerdem werden Ihnen die notwendigen anatomischen und Neurophysiologischen Grundlagen vermittelt. Ab der ersten Stunde versuchen wir praxisorientiert auch die theoretischen Inhalte zu vermitteln. Es werden die Techniken auch gleich gegenseitig geübt daher sollten Sie bei auf lockere sportliche Bekleidung achten. Kursprogramm herunterladen
URL:https://aamm.at/event/kurs-1-klagenfurt-3/
LOCATION:Klagenfurt-FBZ\, Waaggasse 18\, Klagenfurt\, Kärnten\, 9020\, Österreich
END:VEVENT
BEGIN:VEVENT
DTSTART;TZID=Europe/Vienna:20261114T090000
DTEND;TZID=Europe/Vienna:20261114T160000
DTSTAMP:20260419T192014
CREATED:20250406T125628Z
LAST-MODIFIED:20260126T165345Z
UID:10000102-1794646800-1794672000@aamm.at
SUMMARY:Kinesiotaping für Ärzte
DESCRIPTION:Die Inhalte dieser Fortbildung sollen Theorie und Praxis des Kinesiotaping vermitteln. Auf die Grundtechniken wie toniserende und detonisierende Muskeltechniken\, Ligament-\, Lymph- und Faszientechniken bzw. Positionskorrekturtaping wird in Form eines Vortrages eingegangen und im Anschluss im praktischen Teil von jedem Kursanten umgesetzt. Zusätzlich werden bewährte Kombinationsbehandlungen mit Manual Medizinischen Techniken abgehandelt. Kursprogramm herunterladen
URL:https://aamm.at/event/kinesiotaping-fuer-aerzte-6/
LOCATION:Klagenfurt-FBZ\, Waaggasse 18\, Klagenfurt\, Kärnten\, 9020\, Österreich
END:VEVENT
BEGIN:VEVENT
DTSTART;TZID=Europe/Vienna:20270306T000000
DTEND;TZID=Europe/Vienna:20270312T235959
DTSTAMP:20260419T192014
CREATED:20260126T105512Z
LAST-MODIFIED:20260415T072912Z
UID:10000130-1804291200-1804895999@aamm.at
SUMMARY:Kurs 2 | Klagenfurt
DESCRIPTION:In diesem Kurs erlernen Sie spezifische Techniken zur Behandlung der gesamten Wirbelsäule. Speziell Diagnostik und Therapie Pseudoradikulärer Symptome. Besonderes Augenmerk wird auf die funktionell Zusammenhänge und die zu Grunde liegenden Mechanismen gelegt. Kursprogramm herunterladen
URL:https://aamm.at/event/kurs-2-klagenfurt-3/
LOCATION:Klagenfurt-FBZ\, Waaggasse 18\, Klagenfurt\, Kärnten\, 9020\, Österreich
END:VEVENT
BEGIN:VEVENT
DTSTART;TZID=Europe/Vienna:20270614T000000
DTEND;TZID=Europe/Vienna:20270620T235959
DTSTAMP:20260419T192014
CREATED:20260126T113839Z
LAST-MODIFIED:20260127T133515Z
UID:10000131-1812931200-1813535999@aamm.at
SUMMARY:Kurs 3 | Klagenfurt
DESCRIPTION:In diesem Kurs erlernen Sie die Behandlung der oberen und unteren Extremitäten Gelenke. Regionen spezifische Schmerzphänomene werden besprochen. Zusätzlich sind die Segmentalen und funktionellen Zusammenhänge im gesamten Bewegungssystem erörtert deren Verständnis zur Rezidivprophylaxe notwendig ist. Kursprogramm herunterladen
URL:https://aamm.at/event/kurs-3-klagenfurt-3/
LOCATION:Klagenfurt-FBZ\, Waaggasse 18\, Klagenfurt\, Kärnten\, 9020\, Österreich
END:VEVENT
BEGIN:VEVENT
DTSTART;TZID=Europe/Vienna:20270913T000000
DTEND;TZID=Europe/Vienna:20270919T235959
DTSTAMP:20260419T192014
CREATED:20260126T114258Z
LAST-MODIFIED:20260127T141157Z
UID:10000132-1820793600-1821398399@aamm.at
SUMMARY:Kurs 1 | Klagenfurt
DESCRIPTION:In diesem Kurs erlernen Sie unspezifische und sichere diagnostische und therapeutische Techniken zum erkennen von funktionellen Störungen an der Wirbelsäule. Außerdem werden Ihnen die notwendigen anatomischen und Neurophysiologischen Grundlagen vermittelt. Ab der ersten Stunde versuchen wir praxisorientiert auch die theoretischen Inhalte zu vermitteln. Es werden die Techniken auch gleich gegenseitig geübt daher sollten Sie bei auf lockere sportliche Bekleidung achten. Kursprogramm herunterladen
URL:https://aamm.at/event/kurs-1-klagenfurt-2/
LOCATION:Klagenfurt-FBZ\, Waaggasse 18\, Klagenfurt\, Kärnten\, 9020\, Österreich
END:VEVENT
END:VCALENDAR