BEGIN:VCALENDAR
VERSION:2.0
PRODID:-//AAMM - ECPv6.10.2//NONSGML v1.0//EN
CALSCALE:GREGORIAN
METHOD:PUBLISH
X-WR-CALNAME:AAMM
X-ORIGINAL-URL:https://aamm.at
X-WR-CALDESC:Veranstaltungen für AAMM
REFRESH-INTERVAL;VALUE=DURATION:PT1H
X-Robots-Tag:noindex
X-PUBLISHED-TTL:PT1H
BEGIN:VTIMEZONE
TZID:Europe/Vienna
BEGIN:DAYLIGHT
TZOFFSETFROM:+0100
TZOFFSETTO:+0200
TZNAME:CEST
DTSTART:20260329T010000
END:DAYLIGHT
BEGIN:STANDARD
TZOFFSETFROM:+0200
TZOFFSETTO:+0100
TZNAME:CET
DTSTART:20261025T010000
END:STANDARD
BEGIN:DAYLIGHT
TZOFFSETFROM:+0100
TZOFFSETTO:+0200
TZNAME:CEST
DTSTART:20270328T010000
END:DAYLIGHT
BEGIN:STANDARD
TZOFFSETFROM:+0200
TZOFFSETTO:+0100
TZNAME:CET
DTSTART:20271031T010000
END:STANDARD
END:VTIMEZONE
BEGIN:VEVENT
DTSTART;TZID=Europe/Vienna:20260418T000000
DTEND;TZID=Europe/Vienna:20260424T235959
DTSTAMP:20260419T175500
CREATED:20250406T115314Z
LAST-MODIFIED:20260126T162659Z
UID:10000091-1776470400-1777075199@aamm.at
SUMMARY:Kurs 3 | Graz
DESCRIPTION:In diesem Kurs erlernen Sie die Behandlung der oberen und unteren Extremitäten Gelenke. Regionen spezifische Schmerzphänomene werden besprochen. Zusätzlich sind die Segmentalen und funktionellen Zusammenhänge im gesamten Bewegungssystem erörtert deren Verständnis zur Rezidivprophylaxe notwendig ist. Kursprogramm herunterladenProfitieren Sie als Kursteilnehmer von vergünstigten Zimmern im Hotel Bokan!
URL:https://aamm.at/event/kurs-3-graz-4/
LOCATION:Graz-Hotel Bokan\, Mainersbergstraße 1\, Graz\, 8051\, Österreich
END:VEVENT
BEGIN:VEVENT
DTSTART;TZID=Europe/Vienna:20260613T000000
DTEND;TZID=Europe/Vienna:20260619T235959
DTSTAMP:20260419T175500
CREATED:20250406T120038Z
LAST-MODIFIED:20260210T102422Z
UID:10000092-1781308800-1781913599@aamm.at
SUMMARY:Kurs 5 | Graz
DESCRIPTION:Im Abschlusskurs werden die wesentlichen theoretischen und praktischen Fertigkeiten im klinischen Kontext wiederholt. Anhand von Fallbeispielen erlernen Sie die Erstellung von Therapiekonzepten und deren Dokumentation. Außerdem werden rechtliche Aspekte der manuellen Medizin angesprochen. Den Abschluss bildet eine praktische und mündliche Prüfung entsprechend der Diplom Ordnung der österreichischen Akademie der Ärzte. Kursprogramm herunterladenProfitieren Sie als Kursteilnehmer von vergünstigten Zimmern im Hotel Bokan! Wie läuft die Prüfung in Kurs 5 ab?Schritt für Schritt.Alle wichtigen Informationen erhalten Sie in den Kursen 1 bis 4.Im Kurs 5 bekommen Sie am Abend des zweiten oder am Morgen des dritten Kurstags einen individuellen Fall. Diesen bearbeiten Sie bis Donnerstagabend – sowohl im Kurs als auch selbstständig. Wir bieten Ihnen außerdem die Möglichkeit den Kursraum vor und nach dem Kurs zu benutzen.  In der Prüfung wird in der Regel dieser Fall besprochen. Gegebenenfalls werden auch andere Themenbereiche abgefragt. Sollte noch Unsicherheit bestehen\, empfehlen unsere Lehrenden eventuell das Nachholen eines Kurstags – oft finden sich dabei individuelle\, unterstützende Lösungen. Wie erhalte ich das Diplom?So funktioniert’s:Sie benötigen insgesamt 300 Kursstunden (Kurse 1 bis 5).Das Diplom beantragen Sie anschließend selbstständig über die Akademie der Ärztekammer.Bitte beachten Sie: Das Diplom kann derzeit nur an Mitglieder der österreichischen Ärztekammer vergeben werden. Für Ärzt:innen aus dem Ausland wird aktuell an einer einfacheren Lösung gearbeitet. Zum ÖÄK Antragsformular
URL:https://aamm.at/event/kurs-5-graz-4/
LOCATION:Graz-Hotel Bokan\, Mainersbergstraße 1\, Graz\, 8051\, Österreich
END:VEVENT
BEGIN:VEVENT
DTSTART;TZID=Europe/Vienna:20260620T000000
DTEND;TZID=Europe/Vienna:20260626T235959
DTSTAMP:20260419T175500
CREATED:20250406T120826Z
LAST-MODIFIED:20260126T164106Z
UID:10000093-1781913600-1782518399@aamm.at
SUMMARY:Kurs 2 | Graz
DESCRIPTION:In diesem Kurs erlernen Sie spezifische Techniken zur Behandlung der gesamten Wirbelsäule. Speziell Diagnostik und Therapie Pseudoradikulärer Symptome. Besonderes Augenmerk wird auf die funktionell Zusammenhänge und die zu Grunde liegenden Mechanismen gelegt. Kursprogramm herunterladenProfitieren Sie als Kursteilnehmer von vergünstigten Zimmern im Hotel Bokan!
URL:https://aamm.at/event/kurs-2-graz-4/
LOCATION:Graz-Hotel Bokan\, Mainersbergstraße 1\, Graz\, 8051\, Österreich
END:VEVENT
BEGIN:VEVENT
DTSTART;TZID=Europe/Vienna:20260912T000000
DTEND;TZID=Europe/Vienna:20260918T235959
DTSTAMP:20260419T175500
CREATED:20250406T121505Z
LAST-MODIFIED:20260126T164324Z
UID:10000094-1789171200-1789775999@aamm.at
SUMMARY:Kurs 4 | Graz
DESCRIPTION:Abrundung der bisherigen Behandlungskonzepte durch erlernen von myofascialen Techniken. Einblick in die viszerale Osteopathie und Manuelle Medizin bei Kindern. Erlernen von Grundlagen zur Behandlung der Cranio Mandibulären Dysfunktion (CMD) und Vermittlung ihrer Bedeutung für das gesamte Bewegungssystem. Kursprogramm herunterladenProfitieren Sie als Kursteilnehmer von vergünstigten Zimmern im Hotel Bokan!
URL:https://aamm.at/event/kurs-4-graz-4/
LOCATION:Graz-Hotel Bokan\, Mainersbergstraße 1\, Graz\, 8051\, Österreich
END:VEVENT
BEGIN:VEVENT
DTSTART;TZID=Europe/Vienna:20261012T000000
DTEND;TZID=Europe/Vienna:20261018T235959
DTSTAMP:20260419T175500
CREATED:20250406T121818Z
LAST-MODIFIED:20260126T165156Z
UID:10000095-1791763200-1792367999@aamm.at
SUMMARY:Kurs 1 | Graz
DESCRIPTION:In diesem Kurs erlernen Sie unspezifische und sichere diagnostische und therapeutische Techniken zum erkennen von funktionellen Störungen an der Wirbelsäule. Außerdem werden Ihnen die notwendigen anatomischen und Neurophysiologischen Grundlagen vermittelt. Ab der ersten Stunde versuchen wir praxisorientiert auch die theoretischen Inhalte zu vermitteln. Es werden die Techniken auch gleich gegenseitig geübt daher sollten Sie bei auf lockere sportliche Bekleidung achten. Kursprogramm herunterladenProfitieren Sie als Kursteilnehmer von vergünstigten Zimmern im Hotel Bokan!
URL:https://aamm.at/event/kurs-1-graz-5/
LOCATION:Graz-Hotel Bokan\, Mainersbergstraße 1\, Graz\, 8051\, Österreich
END:VEVENT
BEGIN:VEVENT
DTSTART;TZID=Europe/Vienna:20261121T000000
DTEND;TZID=Europe/Vienna:20261127T235959
DTSTAMP:20260419T175500
CREATED:20250406T122342Z
LAST-MODIFIED:20260126T165528Z
UID:10000096-1795219200-1795823999@aamm.at
SUMMARY:Kurs 3 | Graz
DESCRIPTION:In diesem Kurs erlernen Sie die Behandlung der oberen und unteren Extremitäten Gelenke. Regionen spezifische Schmerzphänomene werden besprochen. Zusätzlich sind die Segmentalen und funktionellen Zusammenhänge im gesamten Bewegungssystem erörtert deren Verständnis zur Rezidivprophylaxe notwendig ist. Kursprogramm herunterladenProfitieren Sie als Kursteilnehmer von vergünstigten Zimmern im Hotel Bokan!
URL:https://aamm.at/event/kurs-3-graz-5/
LOCATION:Graz-Hotel Bokan\, Mainersbergstraße 1\, Graz\, 8051\, Österreich
END:VEVENT
BEGIN:VEVENT
DTSTART;TZID=Europe/Vienna:20261128T000000
DTEND;TZID=Europe/Vienna:20261204T235959
DTSTAMP:20260419T175500
CREATED:20250406T122651Z
LAST-MODIFIED:20260210T102208Z
UID:10000097-1795824000-1796428799@aamm.at
SUMMARY:Kurs 5 | Graz
DESCRIPTION:Im Abschlusskurs werden die wesentlichen theoretischen und praktischen Fertigkeiten im klinischen Kontext wiederholt. Anhand von Fallbeispielen erlernen Sie die Erstellung von Therapiekonzepten und deren Dokumentation. Außerdem werden rechtliche Aspekte der manuellen Medizin angesprochen. Den Abschluss bildet eine praktische und mündliche Prüfung entsprechend der Diplom Ordnung der österreichischen Akademie der Ärzte. Kursprogramm herunterladenProfitieren Sie als Kursteilnehmer von vergünstigten Zimmern im Hotel Bokan! Wie läuft die Prüfung in Kurs 5 ab?Schritt für Schritt.Alle wichtigen Informationen erhalten Sie in den Kursen 1 bis 4.Im Kurs 5 bekommen Sie am Abend des zweiten oder am Morgen des dritten Kurstags einen individuellen Fall. Diesen bearbeiten Sie bis Donnerstagabend – sowohl im Kurs als auch selbstständig. Wir bieten Ihnen außerdem die Möglichkeit den Kursraum vor und nach dem Kurs zu benutzen.  In der Prüfung wird in der Regel dieser Fall besprochen. Gegebenenfalls werden auch andere Themenbereiche abgefragt. Sollte noch Unsicherheit bestehen\, empfehlen unsere Lehrenden eventuell das Nachholen eines Kurstags – oft finden sich dabei individuelle\, unterstützende Lösungen. Wie erhalte ich das Diplom?So funktioniert’s:Sie benötigen insgesamt 300 Kursstunden (Kurse 1 bis 5).Das Diplom beantragen Sie anschließend selbstständig über die Akademie der Ärztekammer.Bitte beachten Sie: Das Diplom kann derzeit nur an Mitglieder der österreichischen Ärztekammer vergeben werden. Für Ärzt:innen aus dem Ausland wird aktuell an einer einfacheren Lösung gearbeitet. Zum ÖÄK Antragsformular
URL:https://aamm.at/event/kurs-5-graz-5/
LOCATION:Graz-Hotel Bokan\, Mainersbergstraße 1\, Graz\, 8051\, Österreich
END:VEVENT
BEGIN:VEVENT
DTSTART;TZID=Europe/Vienna:20270123T000000
DTEND;TZID=Europe/Vienna:20270129T235959
DTSTAMP:20260419T175500
CREATED:20260122T131542Z
LAST-MODIFIED:20260127T123717Z
UID:10000120-1800662400-1801267199@aamm.at
SUMMARY:Kurs 2 | Graz
DESCRIPTION:In diesem Kurs erlernen Sie spezifische Techniken zur Behandlung der gesamten Wirbelsäule. Speziell Diagnostik und Therapie Pseudoradikulärer Symptome. Besonderes Augenmerk wird auf die funktionell Zusammenhänge und die zu Grunde liegenden Mechanismen gelegt. Kursprogramm herunterladenProfitieren Sie als Kursteilnehmer von vergünstigten Zimmern im Hotel Bokan!
URL:https://aamm.at/event/kurs-2-graz-5/
LOCATION:Graz-Hotel Bokan\, Mainersbergstraße 1\, Graz\, 8051\, Österreich
END:VEVENT
BEGIN:VEVENT
DTSTART;TZID=Europe/Vienna:20270130T000000
DTEND;TZID=Europe/Vienna:20270205T235959
DTSTAMP:20260419T175500
CREATED:20260122T132054Z
LAST-MODIFIED:20260127T131230Z
UID:10000121-1801267200-1801871999@aamm.at
SUMMARY:Kurs 4 | Graz
DESCRIPTION:Abrundung der bisherigen Behandlungskonzepte durch erlernen von myofascialen Techniken. Einblick in die viszerale Osteopathie und Manuelle Medizin bei Kindern. Erlernen von Grundlagen zur Behandlung der Cranio Mandibulären Dysfunktion (CMD) und Vermittlung ihrer Bedeutung für das gesamte Bewegungssystem. Kursprogramm herunterladenProfitieren Sie als Kursteilnehmer von vergünstigten Zimmern im Hotel Bokan!
URL:https://aamm.at/event/kurs-4-graz-5/
LOCATION:Graz-Hotel Bokan\, Mainersbergstraße 1\, Graz\, 8051\, Österreich
END:VEVENT
BEGIN:VEVENT
DTSTART;TZID=Europe/Vienna:20270301T000000
DTEND;TZID=Europe/Vienna:20270307T235959
DTSTAMP:20260419T175500
CREATED:20260122T132707Z
LAST-MODIFIED:20260127T131508Z
UID:10000122-1803859200-1804463999@aamm.at
SUMMARY:Kurs 1 | Graz
DESCRIPTION:In diesem Kurs erlernen Sie unspezifische und sichere diagnostische und therapeutische Techniken zum erkennen von funktionellen Störungen an der Wirbelsäule. Außerdem werden Ihnen die notwendigen anatomischen und Neurophysiologischen Grundlagen vermittelt. Ab der ersten Stunde versuchen wir praxisorientiert auch die theoretischen Inhalte zu vermitteln. Es werden die Techniken auch gleich gegenseitig geübt daher sollten Sie bei auf lockere sportliche Bekleidung achten. Kursprogramm herunterladenProfitieren Sie als Kursteilnehmer von vergünstigten Zimmern im Hotel Bokan!
URL:https://aamm.at/event/kurs-1-graz-6/
LOCATION:Graz-Hotel Bokan\, Mainersbergstraße 1\, Graz\, 8051\, Österreich
END:VEVENT
BEGIN:VEVENT
DTSTART;TZID=Europe/Vienna:20270417T000000
DTEND;TZID=Europe/Vienna:20270423T235959
DTSTAMP:20260419T175500
CREATED:20260122T133035Z
LAST-MODIFIED:20260127T131958Z
UID:10000123-1807920000-1808524799@aamm.at
SUMMARY:Kurs 3 | Graz
DESCRIPTION:In diesem Kurs erlernen Sie die Behandlung der oberen und unteren Extremitäten Gelenke. Regionen spezifische Schmerzphänomene werden besprochen. Zusätzlich sind die Segmentalen und funktionellen Zusammenhänge im gesamten Bewegungssystem erörtert deren Verständnis zur Rezidivprophylaxe notwendig ist. Kursprogramm herunterladenProfitieren Sie als Kursteilnehmer von vergünstigten Zimmern im Hotel Bokan!
URL:https://aamm.at/event/kurs-3-graz-6/
LOCATION:Graz-Hotel Bokan\, Mainersbergstraße 1\, Graz\, 8051\, Österreich
END:VEVENT
BEGIN:VEVENT
DTSTART;TZID=Europe/Vienna:20270605T000000
DTEND;TZID=Europe/Vienna:20270611T235959
DTSTAMP:20260419T175500
CREATED:20260122T133516Z
LAST-MODIFIED:20260210T101436Z
UID:10000124-1812153600-1812758399@aamm.at
SUMMARY:Kurs 5 | Graz
DESCRIPTION:Im Abschlusskurs werden die wesentlichen theoretischen und praktischen Fertigkeiten im klinischen Kontext wiederholt. Anhand von Fallbeispielen erlernen Sie die Erstellung von Therapiekonzepten und deren Dokumentation. Außerdem werden rechtliche Aspekte der manuellen Medizin angesprochen. Den Abschluss bildet eine praktische und mündliche Prüfung entsprechend der Diplom Ordnung der österreichischen Akademie der Ärzte. Kursprogramm herunterladenProfitieren Sie als Kursteilnehmer von vergünstigten Zimmern im Hotel Bokan! Wie läuft die Prüfung in Kurs 5 ab?Schritt für Schritt.Alle wichtigen Informationen erhalten Sie in den Kursen 1 bis 4.Im Kurs 5 bekommen Sie am Abend des zweiten oder am Morgen des dritten Kurstags einen individuellen Fall. Diesen bearbeiten Sie bis Donnerstagabend – sowohl im Kurs als auch selbstständig. Wir bieten Ihnen außerdem die Möglichkeit den Kursraum vor und nach dem Kurs zu benutzen.  In der Prüfung wird in der Regel dieser Fall besprochen. Gegebenenfalls werden auch andere Themenbereiche abgefragt. Sollte noch Unsicherheit bestehen\, empfehlen unsere Lehrenden eventuell das Nachholen eines Kurstags – oft finden sich dabei individuelle\, unterstützende Lösungen. Wie erhalte ich das Diplom?So funktioniert’s:Sie benötigen insgesamt 300 Kursstunden (Kurse 1 bis 5).Das Diplom beantragen Sie anschließend selbstständig über die Akademie der Ärztekammer.Bitte beachten Sie: Das Diplom kann derzeit nur an Mitglieder der österreichischen Ärztekammer vergeben werden. Für Ärzt:innen aus dem Ausland wird aktuell an einer einfacheren Lösung gearbeitet. Zum ÖÄK Antragsformular
URL:https://aamm.at/event/kurs-5-graz-6/
LOCATION:Graz-Hotel Bokan\, Mainersbergstraße 1\, Graz\, 8051\, Österreich
END:VEVENT
BEGIN:VEVENT
DTSTART;TZID=Europe/Vienna:20270619T000000
DTEND;TZID=Europe/Vienna:20270625T235959
DTSTAMP:20260419T175500
CREATED:20260122T133816Z
LAST-MODIFIED:20260127T133829Z
UID:10000125-1813363200-1813967999@aamm.at
SUMMARY:Kurs 2 | Graz
DESCRIPTION:In diesem Kurs erlernen Sie spezifische Techniken zur Behandlung der gesamten Wirbelsäule. Speziell Diagnostik und Therapie Pseudoradikulärer Symptome. Besonderes Augenmerk wird auf die funktionell Zusammenhänge und die zu Grunde liegenden Mechanismen gelegt. Kursprogramm herunterladenProfitieren Sie als Kursteilnehmer von vergünstigten Zimmern im Hotel Bokan!
URL:https://aamm.at/event/kurs-2-graz-6/
LOCATION:Graz-Hotel Bokan\, Mainersbergstraße 1\, Graz\, 8051\, Österreich
END:VEVENT
BEGIN:VEVENT
DTSTART;TZID=Europe/Vienna:20270918T000000
DTEND;TZID=Europe/Vienna:20270924T235959
DTSTAMP:20260419T175500
CREATED:20260122T134310Z
LAST-MODIFIED:20260127T141040Z
UID:10000126-1821225600-1821830399@aamm.at
SUMMARY:Kurs 4 | Graz
DESCRIPTION:Abrundung der bisherigen Behandlungskonzepte durch erlernen von myofascialen Techniken. Einblick in die viszerale Osteopathie und Manuelle Medizin bei Kindern. Erlernen von Grundlagen zur Behandlung der Cranio Mandibulären Dysfunktion (CMD) und Vermittlung ihrer Bedeutung für das gesamte Bewegungssystem. Kursprogramm herunterladenProfitieren Sie als Kursteilnehmer von vergünstigten Zimmern im Hotel Bokan!
URL:https://aamm.at/event/kurs-4-graz-6/
LOCATION:Graz-Hotel Bokan\, Mainersbergstraße 1\, Graz\, 8051\, Österreich
END:VEVENT
BEGIN:VEVENT
DTSTART;TZID=Europe/Vienna:20271011T000000
DTEND;TZID=Europe/Vienna:20271017T235959
DTSTAMP:20260419T175500
CREATED:20260122T134705Z
LAST-MODIFIED:20260127T141411Z
UID:10000127-1823212800-1823817599@aamm.at
SUMMARY:Kurs 1 | Graz
DESCRIPTION:In diesem Kurs erlernen Sie unspezifische und sichere diagnostische und therapeutische Techniken zum erkennen von funktionellen Störungen an der Wirbelsäule. Außerdem werden Ihnen die notwendigen anatomischen und Neurophysiologischen Grundlagen vermittelt. Ab der ersten Stunde versuchen wir praxisorientiert auch die theoretischen Inhalte zu vermitteln. Es werden die Techniken auch gleich gegenseitig geübt daher sollten Sie bei auf lockere sportliche Bekleidung achten. Kursprogramm herunterladenProfitieren Sie als Kursteilnehmer von vergünstigten Zimmern im Hotel Bokan!
URL:https://aamm.at/event/kurs-1-graz-7/
LOCATION:Graz-Hotel Bokan\, Mainersbergstraße 1\, Graz\, 8051\, Österreich
END:VEVENT
BEGIN:VEVENT
DTSTART;TZID=Europe/Vienna:20271120T000000
DTEND;TZID=Europe/Vienna:20271126T235959
DTSTAMP:20260419T175500
CREATED:20260122T134943Z
LAST-MODIFIED:20260127T141612Z
UID:10000128-1826668800-1827273599@aamm.at
SUMMARY:Kurs 3 | Graz
DESCRIPTION:In diesem Kurs erlernen Sie die Behandlung der oberen und unteren Extremitäten Gelenke. Regionen spezifische Schmerzphänomene werden besprochen. Zusätzlich sind die Segmentalen und funktionellen Zusammenhänge im gesamten Bewegungssystem erörtert deren Verständnis zur Rezidivprophylaxe notwendig ist. Kursprogramm herunterladenProfitieren Sie als Kursteilnehmer von vergünstigten Zimmern im Hotel Bokan!
URL:https://aamm.at/event/kurs-3-graz-7/
LOCATION:Graz-Hotel Bokan\, Mainersbergstraße 1\, Graz\, 8051\, Österreich
END:VEVENT
BEGIN:VEVENT
DTSTART;TZID=Europe/Vienna:20271127T000000
DTEND;TZID=Europe/Vienna:20271203T235959
DTSTAMP:20260419T175500
CREATED:20260122T135305Z
LAST-MODIFIED:20260210T101852Z
UID:10000129-1827273600-1827878399@aamm.at
SUMMARY:Kurs 5 | Graz
DESCRIPTION:Im Abschlusskurs werden die wesentlichen theoretischen und praktischen Fertigkeiten im klinischen Kontext wiederholt. Anhand von Fallbeispielen erlernen Sie die Erstellung von Therapiekonzepten und deren Dokumentation. Außerdem werden rechtliche Aspekte der manuellen Medizin angesprochen. Den Abschluss bildet eine praktische und mündliche Prüfung entsprechend der Diplom Ordnung der österreichischen Akademie der Ärzte. Kursprogramm herunterladenProfitieren Sie als Kursteilnehmer von vergünstigten Zimmern im Hotel Bokan! Wie läuft die Prüfung in Kurs 5 ab?Schritt für Schritt.Alle wichtigen Informationen erhalten Sie in den Kursen 1 bis 4.Im Kurs 5 bekommen Sie am Abend des zweiten oder am Morgen des dritten Kurstags einen individuellen Fall. Diesen bearbeiten Sie bis Donnerstagabend – sowohl im Kurs als auch selbstständig. Wir bieten Ihnen außerdem die Möglichkeit den Kursraum vor und nach dem Kurs zu benutzen.  In der Prüfung wird in der Regel dieser Fall besprochen. Gegebenenfalls werden auch andere Themenbereiche abgefragt. Sollte noch Unsicherheit bestehen\, empfehlen unsere Lehrenden eventuell das Nachholen eines Kurstags – oft finden sich dabei individuelle\, unterstützende Lösungen. Wie erhalte ich das Diplom?So funktioniert’s:Sie benötigen insgesamt 300 Kursstunden (Kurse 1 bis 5).Das Diplom beantragen Sie anschließend selbstständig über die Akademie der Ärztekammer.Bitte beachten Sie: Das Diplom kann derzeit nur an Mitglieder der österreichischen Ärztekammer vergeben werden. Für Ärzt:innen aus dem Ausland wird aktuell an einer einfacheren Lösung gearbeitet. Zum ÖÄK Antragsformular
URL:https://aamm.at/event/kurs-5-graz-7/
LOCATION:Graz-Hotel Bokan\, Mainersbergstraße 1\, Graz\, 8051\, Österreich
END:VEVENT
END:VCALENDAR