BEGIN:VCALENDAR
VERSION:2.0
PRODID:-//AAMM - ECPv6.10.2//NONSGML v1.0//EN
CALSCALE:GREGORIAN
METHOD:PUBLISH
X-ORIGINAL-URL:https://aamm.at
X-WR-CALDESC:Veranstaltungen für AAMM
REFRESH-INTERVAL;VALUE=DURATION:PT1H
X-Robots-Tag:noindex
X-PUBLISHED-TTL:PT1H
BEGIN:VTIMEZONE
TZID:Europe/Vienna
BEGIN:DAYLIGHT
TZOFFSETFROM:+0100
TZOFFSETTO:+0200
TZNAME:CEST
DTSTART:20270328T010000
END:DAYLIGHT
BEGIN:STANDARD
TZOFFSETFROM:+0200
TZOFFSETTO:+0100
TZNAME:CET
DTSTART:20271031T010000
END:STANDARD
END:VTIMEZONE
BEGIN:VEVENT
DTSTART;TZID=Europe/Vienna:20270402T000000
DTEND;TZID=Europe/Vienna:20270404T235959
DTSTAMP:20260420T180759
CREATED:20260317T080259Z
LAST-MODIFIED:20260415T072641Z
UID:10000137-1806624000-1806883199@aamm.at
SUMMARY:Kurs 1 | Wien
DESCRIPTION:In diesem Kurs erlernen Sie unspezifische und sichere diagnostische und therapeutische Techniken zum erkennen von funktionellen Störungen an der Wirbelsäule. Außerdem werden Ihnen die notwendigen anatomischen und Neurophysiologischen Grundlagen vermittelt. Ab der ersten Stunde versuchen wir praxisorientiert auch die theoretischen Inhalte zu vermitteln. Es werden die Techniken auch gleich gegenseitig geübt daher sollten Sie bei auf lockere sportliche Bekleidung achten. Kursprogramm herunterladen
URL:https://aamm.at/event/kurs-1-wien-3/
LOCATION:Wien-Phydelio\, Lange Gasse 30/1\, Wien\, 1080
END:VEVENT
BEGIN:VEVENT
DTSTART;TZID=Europe/Vienna:20270417T000000
DTEND;TZID=Europe/Vienna:20270423T235959
DTSTAMP:20260420T180759
CREATED:20260122T133035Z
LAST-MODIFIED:20260127T131958Z
UID:10000123-1807920000-1808524799@aamm.at
SUMMARY:Kurs 3 | Graz
DESCRIPTION:In diesem Kurs erlernen Sie die Behandlung der oberen und unteren Extremitäten Gelenke. Regionen spezifische Schmerzphänomene werden besprochen. Zusätzlich sind die Segmentalen und funktionellen Zusammenhänge im gesamten Bewegungssystem erörtert deren Verständnis zur Rezidivprophylaxe notwendig ist. Kursprogramm herunterladenProfitieren Sie als Kursteilnehmer von vergünstigten Zimmern im Hotel Bokan!
URL:https://aamm.at/event/kurs-3-graz-6/
LOCATION:Graz-Hotel Bokan\, Mainersbergstraße 1\, Graz\, 8051\, Österreich
END:VEVENT
END:VCALENDAR