BEGIN:VCALENDAR
VERSION:2.0
PRODID:-//AAMM - ECPv6.10.2//NONSGML v1.0//EN
CALSCALE:GREGORIAN
METHOD:PUBLISH
X-WR-CALNAME:AAMM
X-ORIGINAL-URL:https://aamm.at
X-WR-CALDESC:Veranstaltungen für AAMM
REFRESH-INTERVAL;VALUE=DURATION:PT1H
X-Robots-Tag:noindex
X-PUBLISHED-TTL:PT1H
BEGIN:VTIMEZONE
TZID:Europe/Vienna
BEGIN:DAYLIGHT
TZOFFSETFROM:+0100
TZOFFSETTO:+0200
TZNAME:CEST
DTSTART:20260329T010000
END:DAYLIGHT
BEGIN:STANDARD
TZOFFSETFROM:+0200
TZOFFSETTO:+0100
TZNAME:CET
DTSTART:20261025T010000
END:STANDARD
END:VTIMEZONE
BEGIN:VEVENT
DTSTART;TZID=Europe/Vienna:20261002T000000
DTEND;TZID=Europe/Vienna:20261004T235959
DTSTAMP:20260420T063053
CREATED:20250406T132005Z
LAST-MODIFIED:20260126T165008Z
UID:10000105-1790899200-1791158399@aamm.at
SUMMARY:Kurs 2 | Bad Häring
DESCRIPTION:In diesem Kurs erlernen Sie spezifische Techniken zur Behandlung der gesamten Wirbelsäule. Speziell Diagnostik und Therapie Pseudoradikulärer Symptome. Besonderes Augenmerk wird auf die funktionell Zusammenhänge und die zu Grunde liegenden Mechanismen gelegt. Kursprogramm herunterladen
URL:https://aamm.at/event/kurs-2-bad-haering-2/
LOCATION:Bad Häring AUVA Rehazentrum\, Rehaweg 1\, Bad Häring\, 6323\, Österreich
END:VEVENT
BEGIN:VEVENT
DTSTART;TZID=Europe/Vienna:20261012T000000
DTEND;TZID=Europe/Vienna:20261018T235959
DTSTAMP:20260420T063053
CREATED:20250406T121818Z
LAST-MODIFIED:20260126T165156Z
UID:10000095-1791763200-1792367999@aamm.at
SUMMARY:Kurs 1 | Graz
DESCRIPTION:In diesem Kurs erlernen Sie unspezifische und sichere diagnostische und therapeutische Techniken zum erkennen von funktionellen Störungen an der Wirbelsäule. Außerdem werden Ihnen die notwendigen anatomischen und Neurophysiologischen Grundlagen vermittelt. Ab der ersten Stunde versuchen wir praxisorientiert auch die theoretischen Inhalte zu vermitteln. Es werden die Techniken auch gleich gegenseitig geübt daher sollten Sie bei auf lockere sportliche Bekleidung achten. Kursprogramm herunterladenProfitieren Sie als Kursteilnehmer von vergünstigten Zimmern im Hotel Bokan!
URL:https://aamm.at/event/kurs-1-graz-5/
LOCATION:Graz-Hotel Bokan\, Mainersbergstraße 1\, Graz\, 8051\, Österreich
END:VEVENT
BEGIN:VEVENT
DTSTART;TZID=Europe/Vienna:20261022T000000
DTEND;TZID=Europe/Vienna:20261025T235959
DTSTAMP:20260420T063053
CREATED:20251031T084731Z
LAST-MODIFIED:20260209T163659Z
UID:10000112-1792627200-1792972799@aamm.at
SUMMARY:Kurs B | Manuelle Medizin bei Kindern
DESCRIPTION:Ergänzend werden Sie im Kurs B der Craniomandibuläre Dysfunktion(CMD) unter besonderer Berücksichtigung der kindlichen Formen und Folgen widmen. Außerdem verhandeln wir die therapeutischen Möglichkeiten der Cerebral Parese (CP) und warum eine möglichst frühe Diagnose und Therapieeinleitung sinnvoll ist. Gerade diese Technik ist für die Therapie bei Kindern und speziell bei Säuglingen überaus hilfreich und notwendig.
URL:https://aamm.at/event/kurs-b-manuelle-medizin-bei-kindern-2/
LOCATION:Thermenhotel Stoiser Loipersdorf\, An der Therme 153\, Bad Loipersdorf\, 8282\, Österreich
END:VEVENT
END:VCALENDAR