BEGIN:VCALENDAR
VERSION:2.0
PRODID:-//AAMM - ECPv6.10.2//NONSGML v1.0//EN
CALSCALE:GREGORIAN
METHOD:PUBLISH
X-ORIGINAL-URL:https://aamm.at
X-WR-CALDESC:Veranstaltungen für AAMM
REFRESH-INTERVAL;VALUE=DURATION:PT1H
X-Robots-Tag:noindex
X-PUBLISHED-TTL:PT1H
BEGIN:VTIMEZONE
TZID:Europe/Vienna
BEGIN:DAYLIGHT
TZOFFSETFROM:+0100
TZOFFSETTO:+0200
TZNAME:CEST
DTSTART:20260329T010000
END:DAYLIGHT
BEGIN:STANDARD
TZOFFSETFROM:+0200
TZOFFSETTO:+0100
TZNAME:CET
DTSTART:20261025T010000
END:STANDARD
END:VTIMEZONE
BEGIN:VEVENT
DTSTART;TZID=Europe/Vienna:20260612T000000
DTEND;TZID=Europe/Vienna:20260614T235959
DTSTAMP:20260420T013602
CREATED:20250506T124842Z
LAST-MODIFIED:20260126T163541Z
UID:10000107-1781222400-1781481599@aamm.at
SUMMARY:Kurs 2 | Wien
DESCRIPTION:In diesem Kurs erlernen Sie spezifische Techniken zur Behandlung der gesamten Wirbelsäule. Speziell Diagnostik und Therapie Pseudoradikulärer Symptome. Besonderes Augenmerk wird auf die funktionellen Zusammenhänge und die zu Grunde liegenden Mechanismen gelegt. Kursprogramm herunterladen
URL:https://aamm.at/event/kurs-2-wien/
LOCATION:Wien-Phydelio\, Lange Gasse 30/1\, Wien\, 1080
END:VEVENT
BEGIN:VEVENT
DTSTART;TZID=Europe/Vienna:20260613T000000
DTEND;TZID=Europe/Vienna:20260619T235959
DTSTAMP:20260420T013602
CREATED:20250406T120038Z
LAST-MODIFIED:20260210T102422Z
UID:10000092-1781308800-1781913599@aamm.at
SUMMARY:Kurs 5 | Graz
DESCRIPTION:Im Abschlusskurs werden die wesentlichen theoretischen und praktischen Fertigkeiten im klinischen Kontext wiederholt. Anhand von Fallbeispielen erlernen Sie die Erstellung von Therapiekonzepten und deren Dokumentation. Außerdem werden rechtliche Aspekte der manuellen Medizin angesprochen. Den Abschluss bildet eine praktische und mündliche Prüfung entsprechend der Diplom Ordnung der österreichischen Akademie der Ärzte. Kursprogramm herunterladenProfitieren Sie als Kursteilnehmer von vergünstigten Zimmern im Hotel Bokan! Wie läuft die Prüfung in Kurs 5 ab?Schritt für Schritt.Alle wichtigen Informationen erhalten Sie in den Kursen 1 bis 4.Im Kurs 5 bekommen Sie am Abend des zweiten oder am Morgen des dritten Kurstags einen individuellen Fall. Diesen bearbeiten Sie bis Donnerstagabend – sowohl im Kurs als auch selbstständig. Wir bieten Ihnen außerdem die Möglichkeit den Kursraum vor und nach dem Kurs zu benutzen.  In der Prüfung wird in der Regel dieser Fall besprochen. Gegebenenfalls werden auch andere Themenbereiche abgefragt. Sollte noch Unsicherheit bestehen\, empfehlen unsere Lehrenden eventuell das Nachholen eines Kurstags – oft finden sich dabei individuelle\, unterstützende Lösungen. Wie erhalte ich das Diplom?So funktioniert’s:Sie benötigen insgesamt 300 Kursstunden (Kurse 1 bis 5).Das Diplom beantragen Sie anschließend selbstständig über die Akademie der Ärztekammer.Bitte beachten Sie: Das Diplom kann derzeit nur an Mitglieder der österreichischen Ärztekammer vergeben werden. Für Ärzt:innen aus dem Ausland wird aktuell an einer einfacheren Lösung gearbeitet. Zum ÖÄK Antragsformular
URL:https://aamm.at/event/kurs-5-graz-4/
LOCATION:Graz-Hotel Bokan\, Mainersbergstraße 1\, Graz\, 8051\, Österreich
END:VEVENT
BEGIN:VEVENT
DTSTART;TZID=Europe/Vienna:20260620T000000
DTEND;TZID=Europe/Vienna:20260626T235959
DTSTAMP:20260420T013602
CREATED:20250406T120826Z
LAST-MODIFIED:20260126T164106Z
UID:10000093-1781913600-1782518399@aamm.at
SUMMARY:Kurs 2 | Graz
DESCRIPTION:In diesem Kurs erlernen Sie spezifische Techniken zur Behandlung der gesamten Wirbelsäule. Speziell Diagnostik und Therapie Pseudoradikulärer Symptome. Besonderes Augenmerk wird auf die funktionell Zusammenhänge und die zu Grunde liegenden Mechanismen gelegt. Kursprogramm herunterladenProfitieren Sie als Kursteilnehmer von vergünstigten Zimmern im Hotel Bokan!
URL:https://aamm.at/event/kurs-2-graz-4/
LOCATION:Graz-Hotel Bokan\, Mainersbergstraße 1\, Graz\, 8051\, Österreich
END:VEVENT
END:VCALENDAR