BEGIN:VCALENDAR
VERSION:2.0
PRODID:-//AAMM - ECPv6.10.2//NONSGML v1.0//EN
CALSCALE:GREGORIAN
METHOD:PUBLISH
X-ORIGINAL-URL:https://aamm.at
X-WR-CALDESC:Veranstaltungen für AAMM
REFRESH-INTERVAL;VALUE=DURATION:PT1H
X-Robots-Tag:noindex
X-PUBLISHED-TTL:PT1H
BEGIN:VTIMEZONE
TZID:Europe/Vienna
BEGIN:DAYLIGHT
TZOFFSETFROM:+0100
TZOFFSETTO:+0200
TZNAME:CEST
DTSTART:20250330T010000
END:DAYLIGHT
BEGIN:STANDARD
TZOFFSETFROM:+0200
TZOFFSETTO:+0100
TZNAME:CET
DTSTART:20251026T010000
END:STANDARD
END:VTIMEZONE
BEGIN:VEVENT
DTSTART;TZID=Europe/Vienna:20251129T000000
DTEND;TZID=Europe/Vienna:20251205T235959
DTSTAMP:20260420T081944
CREATED:20240911T114419Z
LAST-MODIFIED:20250823T113655Z
UID:10000066-1764374400-1764979199@aamm.at
SUMMARY:Kurs 5 | Graz
DESCRIPTION:Im Abschlusskurs werden die wesentlichen theoretischen und praktischen Fertigkeiten im klinischen Kontext wiederholt. Anhand von Fallbeispielen erlernen Sie die Erstellung von Therapiekonzepten und deren Dokumentation. Außerdem werden rechtliche Aspekte der manuellen Medizin angesprochen. Den Abschluss bildet eine praktische und mündliche Prüfung entsprechend der Diplom Ordnung der österreichischen Akademie der Ärzte. Profitieren Sie als Kursteilnehmer von vergünstigten Zimmern im Hotel Bokan!
URL:https://aamm.at/event/kurs-5-graz-3/
LOCATION:Graz-Hotel Bokan\, Mainersbergstraße 1\, Graz\, 8051\, Österreich
END:VEVENT
BEGIN:VEVENT
DTSTART;TZID=Europe/Vienna:20251212T000000
DTEND;TZID=Europe/Vienna:20251214T235959
DTSTAMP:20260420T081944
CREATED:20251117T120952Z
LAST-MODIFIED:20251117T120957Z
UID:10000115-1765497600-1765756799@aamm.at
SUMMARY:Refresher Manuelle Medizin | Die Lendenwirbelsäule bei Kindern und Jugendlichen
DESCRIPTION:Inhalt der Fortbildung ist die Darstellung bekannter Manueller Techniken der LWS unter Berücksichtigung der Verhältnisse bei Kindern und Jugendlichen. Besonderes Augenmerk wird auf die Neurophysiologie Grundlagen gelegt. Aufbauend auf die vorangegangene Fortbildung “Der Lumbosacrale Übergang” werden die Segmentalen Zusammenhänge im speziellen der Abdominallen Viscera zur LWS besprochen. Dies erfolgt stets im Kontext zu klinischen Beispielen. Ziel der Fortbildung ist Kollegen welche bereits das Diplom für manuelle Medizin haben einen neuen Blickwinkel auf die Notwendigkeiten der Behandlung von Kindern und Jugendlichen zu bieten. Speziell die funktionellen Zusammenhänge zwischen Bewegungsystem und diversen Organsystemen kommen zur Darstellung. Zusätzlich soll diese Fortbildung interessierten Kinderärzten einen Zugang zur manuellen Medizin bieten indem die Techniken in adaptierter Form für Jugendliche und Kinder dargestellt zu werden.
URL:https://aamm.at/event/refresher-manuelle-medizin-die-lendenwirbelsaeule-bei-kindern-und-jugendlichen/
LOCATION:Grambach\, Hauptstraße 55\, Grambach\, 8074\, Austria
END:VEVENT
END:VCALENDAR