BEGIN:VCALENDAR
VERSION:2.0
PRODID:-//AAMM - ECPv6.10.2//NONSGML v1.0//EN
CALSCALE:GREGORIAN
METHOD:PUBLISH
X-WR-CALNAME:AAMM
X-ORIGINAL-URL:https://aamm.at
X-WR-CALDESC:Veranstaltungen für AAMM
REFRESH-INTERVAL;VALUE=DURATION:PT1H
X-Robots-Tag:noindex
X-PUBLISHED-TTL:PT1H
BEGIN:VTIMEZONE
TZID:Europe/Vienna
BEGIN:DAYLIGHT
TZOFFSETFROM:+0100
TZOFFSETTO:+0200
TZNAME:CEST
DTSTART:20250330T010000
END:DAYLIGHT
BEGIN:STANDARD
TZOFFSETFROM:+0200
TZOFFSETTO:+0100
TZNAME:CET
DTSTART:20251026T010000
END:STANDARD
END:VTIMEZONE
BEGIN:VEVENT
DTSTART;TZID=Europe/Vienna:20251108T000000
DTEND;TZID=Europe/Vienna:20251114T235959
DTSTAMP:20260420T094328
CREATED:20240911T114037Z
LAST-MODIFIED:20250823T112443Z
UID:10000065-1762560000-1763164799@aamm.at
SUMMARY:Kurs 1 | Graz
DESCRIPTION:In diesem Kurs erlernen Sie unspezifische und sichere diagnostische und therapeutische Techniken zum erkennen von funktionellen Störungen an der Wirbelsäule. Außerdem werden Ihnen die notwendigen anatomischen und neurophysiologischen Grundlagen vermittelt. Ab der ersten Stunde versuchen wir praxisorientiert auch die theoretischen Inhalte zu vermitteln. Es werden die Techniken auch gleich gegenseitig geübt daher sollten Sie bei auf lockere sportliche Bekleidung achten. Profitieren Sie als Kursteilnehmer von vergünstigten Zimmern im Hotel Bokan!
URL:https://aamm.at/event/kurs-1-graz-3/
LOCATION:Graz-Hotel Bokan\, Mainersbergstraße 1\, Graz\, 8051\, Österreich
END:VEVENT
BEGIN:VEVENT
DTSTART;TZID=Europe/Vienna:20251114T000000
DTEND;TZID=Europe/Vienna:20251116T235959
DTSTAMP:20260420T094328
CREATED:20251003T105228Z
LAST-MODIFIED:20251009T171509Z
UID:10000110-1763078400-1763337599@aamm.at
SUMMARY:Refresher | Fokus Kinder & Jugendliche
DESCRIPTION:Diese Fortbildung richtet sich an Ärztinnen und Ärzte\, die bereits das Diplom für Manuelle Medizin besitzen\, sowie an interessierte Kinderärzte\, die einen praxisnahen Zugang zu manuellen Techniken suchen. Ziele der Fortbildung -Einen neuen Blickwinkel auf die besonderen Bedürfnisse von Kindern und Jugendlichen eröffnen -Die funktionellen Zusammenhänge zwischen Bewegungsapparat und verschiedenen Organsystemen verständlich darstellen –Hemmschwellen abbauen\, indem Techniken in kindgerechter\, adaptierter Form vermittelt werden – wir hoffen dadurch speziell Kinderärzte für unsere Kurse begeistern zu können Inhalte -Vorstellung bekannter manueller Techniken unter Berücksichtigung der Besonderheiten im Kindes- und Jugendalter -Vertiefung der neurophysiologischen Grundlagen\, insbesondere der segmentalen Zusammenhänge –Praxisorientierte Verknüpfung mit klinischen Beispielen für den direkten Einsatz im Alltag So wird die manuelle Medizin speziell auf die Bedürfnisse junger Patientinnen und Patienten zugeschnitten – und eröffnet Ihnen neue diagnostische und therapeutische Möglichkeiten.
URL:https://aamm.at/event/refresher-fokus-kinder-jugendliche/
LOCATION:Grambach\, Hauptstraße 55\, Grambach\, 8074\, Austria
END:VEVENT
BEGIN:VEVENT
DTSTART;TZID=Europe/Vienna:20251129T000000
DTEND;TZID=Europe/Vienna:20251205T235959
DTSTAMP:20260420T094328
CREATED:20240911T114419Z
LAST-MODIFIED:20250823T113655Z
UID:10000066-1764374400-1764979199@aamm.at
SUMMARY:Kurs 5 | Graz
DESCRIPTION:Im Abschlusskurs werden die wesentlichen theoretischen und praktischen Fertigkeiten im klinischen Kontext wiederholt. Anhand von Fallbeispielen erlernen Sie die Erstellung von Therapiekonzepten und deren Dokumentation. Außerdem werden rechtliche Aspekte der manuellen Medizin angesprochen. Den Abschluss bildet eine praktische und mündliche Prüfung entsprechend der Diplom Ordnung der österreichischen Akademie der Ärzte. Profitieren Sie als Kursteilnehmer von vergünstigten Zimmern im Hotel Bokan!
URL:https://aamm.at/event/kurs-5-graz-3/
LOCATION:Graz-Hotel Bokan\, Mainersbergstraße 1\, Graz\, 8051\, Österreich
END:VEVENT
END:VCALENDAR