BEGIN:VCALENDAR
VERSION:2.0
PRODID:-//AAMM - ECPv6.10.2//NONSGML v1.0//EN
CALSCALE:GREGORIAN
METHOD:PUBLISH
X-WR-CALNAME:AAMM
X-ORIGINAL-URL:https://aamm.at
X-WR-CALDESC:Veranstaltungen für AAMM
REFRESH-INTERVAL;VALUE=DURATION:PT1H
X-Robots-Tag:noindex
X-PUBLISHED-TTL:PT1H
BEGIN:VTIMEZONE
TZID:Europe/Vienna
BEGIN:DAYLIGHT
TZOFFSETFROM:+0100
TZOFFSETTO:+0200
TZNAME:CEST
DTSTART:20250330T010000
END:DAYLIGHT
BEGIN:STANDARD
TZOFFSETFROM:+0200
TZOFFSETTO:+0100
TZNAME:CET
DTSTART:20251026T010000
END:STANDARD
END:VTIMEZONE
BEGIN:VEVENT
DTSTART;TZID=Europe/Vienna:20251011T000000
DTEND;TZID=Europe/Vienna:20251017T235959
DTSTAMP:20260420T125853
CREATED:20240911T113708Z
LAST-MODIFIED:20250823T111204Z
UID:10000064-1760140800-1760745599@aamm.at
SUMMARY:Kurs 3 | Graz
DESCRIPTION:In diesem Kurs erlernen Sie die Behandlung der oberen und unteren Extremitäten Gelenke. Regionen spezifische Schmerzphänomene werden besprochen. Zusätzlich sind die Segmentalen und funktionellen Zusammenhänge im gesamten Bewegungssystem erörtert deren Verständnis zur Rezidivprophylaxe notwendig ist. Profitieren Sie als Kursteilnehmer von vergünstigten Zimmern im Hotel Bokan!
URL:https://aamm.at/event/kurs-3-graz-2/
LOCATION:Graz-Hotel Bokan\, Mainersbergstraße 1\, Graz\, 8051\, Österreich
END:VEVENT
END:VCALENDAR