BEGIN:VCALENDAR
VERSION:2.0
PRODID:-//AAMM - ECPv6.10.2//NONSGML v1.0//EN
CALSCALE:GREGORIAN
METHOD:PUBLISH
X-ORIGINAL-URL:https://aamm.at
X-WR-CALDESC:Veranstaltungen für AAMM
REFRESH-INTERVAL;VALUE=DURATION:PT1H
X-Robots-Tag:noindex
X-PUBLISHED-TTL:PT1H
BEGIN:VTIMEZONE
TZID:Europe/Vienna
BEGIN:DAYLIGHT
TZOFFSETFROM:+0100
TZOFFSETTO:+0200
TZNAME:CEST
DTSTART:20240331T010000
END:DAYLIGHT
BEGIN:STANDARD
TZOFFSETFROM:+0200
TZOFFSETTO:+0100
TZNAME:CET
DTSTART:20241027T010000
END:STANDARD
END:VTIMEZONE
BEGIN:VEVENT
DTSTART;TZID=Europe/Vienna:20241128T000000
DTEND;TZID=Europe/Vienna:20241201T235959
DTSTAMP:20260421T051729
CREATED:20240911T130410Z
LAST-MODIFIED:20241121T145944Z
UID:10000075-1732752000-1733097599@aamm.at
SUMMARY:Kurs A / Manuelle Medizin bei Kindern
DESCRIPTION:Die ersten beiden Kurse (Kurs A+B) behandeln die Diagnostik der Symptomenkomplexe Tonus Asymmetrie Syndrom (TAS) und Sensomotorische Dysfunktion (SMD) und ihrer Differentialdiagnosen. Dazu betrachten wir die neurophysiologischen\, entwicklungsneurologischen\, anatomischen und embryologischen Grundlagen. Sie bekommen einen Einblick in das General Movements Assesment welches allein durch Beobachtung eine Beurteilung des sich entwickelnden Nervensystems ermöglicht und vor allem zum Ausschluss einer ICP dient. Wir nutzen dieses Verfahren aber auch zur Diagnostik des TAS mittels eines neu entwickelten Scores! Außerdem werden Sie die so genannte Atlasimpulstherapie ad Modum Arlen in der Modifikation nach Wilfrid Coenen erlernen. In Bezug auf die neurophysiologische Wirksamkeit kann diese Technik getrost zur Spitze der Manuellen Techniken gezählt werden. Dies ohne behandlungstypische Risiken!
URL:https://aamm.at/event/kurs-a-manuelle-medizin-bei-kindern/
LOCATION:Bad Loipersdorf – Thermenhotel Stoiser\, An der Therme 153\, Bad Loipersdorf\, 8282\, Österreich
END:VEVENT
END:VCALENDAR